BEGIN:VCALENDAR
VERSION:2.0
PRODID:-//wp-events-plugin.com//7.2.3.1//EN
TZID:America/Chicago
X-WR-TIMEZONE:America/Chicago
BEGIN:VEVENT
UID:5@fortworthdst.org
DTSTART;TZID=America/Chicago:20240521T190000
DTEND;TZID=America/Chicago:20240521T203000
DTSTAMP:20240705T001353Z
URL:https://fortworthdst.org/events/self-care-webinar/
SUMMARY:Cultivate an Emotionally Healthy Me! Self Care Webinar
DESCRIPTION:Join the chapter as we journey to self-care! It’s important 
 that you pour into yourself\, as you try to pour into others. Let our grea
 t speakers show you how. Let’s start the summer off cultivating an emoti
 onally healthy ME!
ATTACH;FMTTYPE=image/jpeg:https://fortworthdst.org/wp-content/uploads/2024
 /07/FWA-Self-Care-Webinar-.png
CATEGORIES:Chapter Calendar
END:VEVENT
BEGIN:VTIMEZONE
TZID:America/Chicago
X-LIC-LOCATION:America/Chicago
BEGIN:DAYLIGHT
DTSTART:20240310T030000
TZOFFSETFROM:-0600
TZOFFSETTO:-0500
TZNAME:CDT
END:DAYLIGHT
END:VTIMEZONE
END:VCALENDAR