BEGIN:VCALENDAR
VERSION:2.0
PRODID:-//wp-events-plugin.com//7.2.3.1//EN
TZID:America/Chicago
X-WR-TIMEZONE:America/Chicago
BEGIN:VEVENT
UID:14@fortworthdst.org
DTSTART;TZID=America/Chicago:20241105T180000
DTEND;TZID=America/Chicago:20241105T220000
DTSTAMP:20241012T175212Z
URL:https://fortworthdst.org/events/nphc-tarrant-county-presidential-elect
 ion-watch-party/
SUMMARY:NPHC Tarrant County Presidential Election Watch Party
DESCRIPTION:Join NPHC of Tarrant County for the November Presidential Elect
 ion Watch Party.
ATTACH;FMTTYPE=image/jpeg:https://fortworthdst.org/wp-content/uploads/2024
 /10/NPHC.jpg
CATEGORIES:DFW Calendar
LOCATION:https://maps.app.goo.gl/1XEr6idZYd2fvT9q7
END:VEVENT
BEGIN:VTIMEZONE
TZID:America/Chicago
X-LIC-LOCATION:America/Chicago
BEGIN:STANDARD
DTSTART:20241103T010000
TZOFFSETFROM:-0500
TZOFFSETTO:-0600
TZNAME:CST
END:STANDARD
END:VTIMEZONE
END:VCALENDAR