BEGIN:VCALENDAR
VERSION:2.0
PRODID:-//wp-events-plugin.com//7.2.3.1//EN
TZID:America/Chicago
X-WR-TIMEZONE:America/Chicago
BEGIN:VEVENT
UID:4@fortworthdst.org
DTSTART;TZID=America/Chicago:20240601T173000
DTEND;TZID=America/Chicago:20240601T213000
DTSTAMP:20240704T235929Z
URL:https://fortworthdst.org/events/nphc-scholarship-banquet/
SUMMARY:NPHC Tarrant County - Scholarship Banquet and National Founders Day
  Ceremony
DESCRIPTION:Tickets are now available for a remarkable evening at the Natio
 nal Pan-Hellenic Council of Tarrant County's Scholarship Banquet. This yea
 r’s theme\, "Together Towards Tomorrow\, Uniting for Excellence\," encap
 sulates our vision of community and academic achievement. Celebrate with u
 s as we honor our history during Founders Day and support the bright futur
 es of six deserving Tarrant County students through our scholarship awards
 . The event promises to be unforgettable with Stacy Brown serving as our m
 aster of ceremonies and the dynamic Crystal Gayden delivering an inspiring
  speech. Don’t miss your chance to be part of this special evening that 
 bridges past achievements with future aspirations. Purchase your tickets t
 oday and join us in a commitment to excellence and unity.
ATTACH;FMTTYPE=image/jpeg:https://fortworthdst.org/wp-content/uploads/2024
 /05/2024-NPHCTC-Banquet-scaled.jpg
CATEGORIES:DFW Calendar
LOCATION:https://maps.app.goo.gl/XAKZvWSGCkPVn28J6
END:VEVENT
BEGIN:VTIMEZONE
TZID:America/Chicago
X-LIC-LOCATION:America/Chicago
BEGIN:DAYLIGHT
DTSTART:20240310T030000
TZOFFSETFROM:-0600
TZOFFSETTO:-0500
TZNAME:CDT
END:DAYLIGHT
END:VTIMEZONE
END:VCALENDAR