BEGIN:VCALENDAR
VERSION:2.0
PRODID:-//wp-events-plugin.com//7.2.3.1//EN
TZID:America/Chicago
X-WR-TIMEZONE:America/Chicago
BEGIN:VEVENT
UID:19@fortworthdst.org
DTSTART;TZID=America/Chicago:20250405T180000
DTEND;TZID=America/Chicago:20250405T210000
DTSTAMP:20241220T151957Z
URL:https://fortworthdst.org/events/miss-jabberwock-presentation-2025/
SUMMARY:Miss Jabberwock Presentation 2025 - Rise Up: Dream Big\, Soar High!
DESCRIPTION:The Fort Worth Alumnae Chapter of Delta Sigma Theta Sorority\, 
 Inc. proudly presents Miss Jabberwock 2025: "Rise Up: Dream Big\, Soar Hig
 h!"\n\nJoin us for the Miss Jabberwock 2025 Presentation on:\n📅 Saturda
 y\, April 5\, 2025\n🕕 6:00 PM\n📍 Texas Christian University – BLUU
  Ballroom\n\n🎉 Tickets are now on sale for $75 per person! 🎉\nPurcha
 se your tickets by March 23\, 2025\, but don’t wait — early bird prici
 ng ends March 9\, 2025.\n\n📢 Advertise with us!\nThe deadline to purcha
 se ad space is March 15\, 2025.\n\nBe a part of this exciting event and su
 pport Miss Jabberwock 2025. Secure your tickets and ads today!\n\n🔗 Get
  your tickets here: https://shorturl.at/ooNgs\n🔗 Contribute an ad here:
  https://shorturl.at/6B8sv\n\nFor questions or more information\, please e
 mail 📧 jabberwock@fortworthdst.org.\n\nWe look forward to celebrating t
 his special event with our family\, friends\, and community partners!
ATTACH;FMTTYPE=image/jpeg:https://fortworthdst.org/wp-content/uploads/2024
 /12/Final-Flyer-Jabberwock.jpg
CATEGORIES:Chapter Calendar
LOCATION:https://maps.app.goo.gl/qoN3YtTuZ7qNKYhi9
END:VEVENT
BEGIN:VTIMEZONE
TZID:America/Chicago
X-LIC-LOCATION:America/Chicago
BEGIN:DAYLIGHT
DTSTART:20250309T030000
TZOFFSETFROM:-0600
TZOFFSETTO:-0500
TZNAME:CDT
END:DAYLIGHT
END:VTIMEZONE
END:VCALENDAR