BEGIN:VCALENDAR
VERSION:2.0
PRODID:-//wp-events-plugin.com//7.2.3.1//EN
TZID:America/Chicago
X-WR-TIMEZONE:America/Chicago
BEGIN:VEVENT
UID:35@fortworthdst.org
DTSTART;TZID=America/Chicago:20260329T180000
DTEND;TZID=America/Chicago:20260329T210000
DTSTAMP:20260214T232033Z
URL:https://fortworthdst.org/events/miss-jabberwock-2026-scholarship-prese
 ntation/
SUMMARY:Miss Jabberwock 2026 Scholarship Presentation
DESCRIPTION:
ATTACH;FMTTYPE=image/jpeg:https://fortworthdst.org/wp-content/uploads/2026
 /02/FINAL.jpg
CATEGORIES:Chapter Calendar
END:VEVENT
BEGIN:VTIMEZONE
TZID:America/Chicago
X-LIC-LOCATION:America/Chicago
BEGIN:DAYLIGHT
DTSTART:20260308T030000
TZOFFSETFROM:-0600
TZOFFSETTO:-0500
TZNAME:CDT
END:DAYLIGHT
END:VTIMEZONE
END:VCALENDAR