BEGIN:VCALENDAR
VERSION:2.0
PRODID:-//wp-events-plugin.com//7.2.3.1//EN
TZID:America/Chicago
X-WR-TIMEZONE:America/Chicago
BEGIN:VEVENT
UID:30@fortworthdst.org
DTSTART;TZID=America/Chicago:20260207T100000
DTEND;TZID=America/Chicago:20260207T140000
DTSTAMP:20260123T040635Z
URL:https://fortworthdst.org/events/mind-body-ballot-community-fair/
SUMMARY:Mind\, Body\, & Ballot Community Fair
DESCRIPTION:Fort Worth Alumnae in partnership with L. Clifford Davis Legal 
 Association and Chi Eta Phi Sorority\, Inc. – Lambda Eta Chapter will ho
 st our Mind\, Body\, &amp\; Ballot Community Fair promoting Strong Minds\,
  Healthy Bodies\, and Empowered Voices. This event will include health scr
 eenings\, wellness demonstrations\, nutrition education\, mental health re
 sources\, and voter education materials and support.\n\n🗓️ Date: Satu
 rday\, February 7\, 2026\, 10a - 2p\n📍 Location: William McDonald YMCA\
 , 2701 Moresby St.\, Fort Worth\, TX 76105\n🥦 Vendor Registration: htt
 ps://form.jotform.com/253533017575053\n✍Attendee Registration: https://
 form.jotform.com/253533387278063\n\nHelp us close the gap in health dispar
 ities and promote civic engagement by bringing essential services and info
 rmation to this community.
ATTACH;FMTTYPE=image/jpeg:https://fortworthdst.org/wp-content/uploads/2025
 /12/Health_Fair-Flyer.jpg
CATEGORIES:Chapter Calendar
LOCATION:https://maps.app.goo.gl/6QeuDJyHq5YrKvf7A
END:VEVENT
BEGIN:VTIMEZONE
TZID:America/Chicago
X-LIC-LOCATION:America/Chicago
BEGIN:STANDARD
DTSTART:20251102T010000
TZOFFSETFROM:-0500
TZOFFSETTO:-0600
TZNAME:CST
END:STANDARD
END:VTIMEZONE
END:VCALENDAR