BEGIN:VCALENDAR
VERSION:2.0
PRODID:-//wp-events-plugin.com//7.2.3.1//EN
TZID:America/Chicago
X-WR-TIMEZONE:America/Chicago
BEGIN:VEVENT
UID:34@fortworthdst.org
DTSTART;TZID=America/Chicago:20260120T000000
DTEND;TZID=America/Chicago:20260211T000000
DTSTAMP:20260131T200126Z
URL:https://fortworthdst.org/events/love-at-first-handbag-raffle/
SUMMARY:Love at First Handbag Raffle
DESCRIPTION:Give Love. Win Luxury. Make an Impact. It’s your chance to fa
 ll in love with luxury this Valentine’s season!\n\nWhen you enter the Lo
 ve at First Handbag Raffle\, you’re doing more than entering to win — 
 you’re supporting scholarships and community programs right here in Fort
  Worth.\n\n🎟️Raffle runs Now – February 11\n\n🎉Live Zoom Drawing
  on February 12 at 6:30 PM\n\nPrizes Include:\nFirst Place: Designer Handb
 ag (up to $2\,500 w/ tax)\nSecond Place: Black-Owned Designer Handbag (up 
 to $1\,200 w/ tax)\nThird Place: $500 Gift Card\n\nEnter Here: https://giv
 ebutter.com/FWA2026\n$25 = 25 Entries\n$50 = 70 Entries\n$100 = 200 Entrie
 s\n\nFees added at checkout. All net proceeds benefit the Fort Worth Alumn
 ae Chapter’s scholarships and programs.
ATTACH;FMTTYPE=image/jpeg:https://fortworthdst.org/wp-content/uploads/2026
 /01/Love-at-First-Handbag-2026-Flyer.jpg
CATEGORIES:Chapter Calendar
LOCATION:https://givebutter.com/FWA2026
END:VEVENT
BEGIN:VTIMEZONE
TZID:America/Chicago
X-LIC-LOCATION:America/Chicago
BEGIN:STANDARD
DTSTART:20251102T010000
TZOFFSETFROM:-0500
TZOFFSETTO:-0600
TZNAME:CST
END:STANDARD
END:VTIMEZONE
END:VCALENDAR