BEGIN:VCALENDAR
VERSION:2.0
PRODID:-//wp-events-plugin.com//7.2.3.1//EN
TZID:America/Chicago
X-WR-TIMEZONE:America/Chicago
BEGIN:VEVENT
UID:36@fortworthdst.org
DTSTART;TZID=America/Chicago:20260308T130000
DTEND;TZID=America/Chicago:20260308T170000
DTSTAMP:20260227T053558Z
URL:https://fortworthdst.org/events/lit-art-where-literature-lyrics-and-ar
 t-collide/
SUMMARY:Lit-Art: Where Literature\, Lyrics\, and Art Collide
DESCRIPTION:Experience the fusion of creativity at "Lit-Art: Where Literatu
 re\, Lyrics\, and Art Collide\," hosted by FW Alumnae Chapter of Delta Si
 gma Theta Sorority Inc. Join us for an inspiring afternoon celebrating cul
 ture on Sunday\, March 8\, 2026\, from 1 PM - 5 PM at The Modern Art Muse
 um of Fort Worth. \n\nDon't miss this chance to engage with captivating a
 rt\, including the Rashid Johnson exhibit\, "A Poem for Deep Thinkers"\, 
 performances at our Lit Café\, literature available for enjoyment\, and M
 ore! This event is free with registration\, great for all ages\, and open 
 to the public. Sign up to perform when you register. Register Today!\n\nht
 tps://bit.ly/FWADSTLitArt
ATTACH;FMTTYPE=image/jpeg:https://fortworthdst.org/wp-content/uploads/2026
 /02/LIT-ART-Flyer-Final-Story-Format.png
CATEGORIES:Chapter Calendar
LOCATION:https://maps.app.goo.gl/sxb8KiTXC35gRSHw8
END:VEVENT
BEGIN:VTIMEZONE
TZID:America/Chicago
X-LIC-LOCATION:America/Chicago
BEGIN:DAYLIGHT
DTSTART:20260308T030000
TZOFFSETFROM:-0600
TZOFFSETTO:-0500
TZNAME:CDT
END:DAYLIGHT
END:VTIMEZONE
END:VCALENDAR