BEGIN:VCALENDAR
VERSION:2.0
PRODID:-//wp-events-plugin.com//7.2.3.1//EN
TZID:America/Chicago
X-WR-TIMEZONE:America/Chicago
BEGIN:VEVENT
UID:15@fortworthdst.org
DTSTART;TZID=America/Chicago:20241015T183000
DTEND;TZID=America/Chicago:20241015T203000
DTSTAMP:20241010T015136Z
URL:https://fortworthdst.org/events/know-before-you-vote/
SUMMARY:Know Before You Vote: A Closer Look at Project 2025
DESCRIPTION:Join the members of Fort Worth Alumnae Chapter of Delta Sigma T
 heta Sorority\, Inc. and The Links Incorporated for an engaging webinar Kn
 ow Before You Vote: A Closer Look at Project 2025. The webinar will be hel
 d on October 15th at 6:30 pm focusing on critical topics such as education
 \, reproductive justice\, DEI\, and criminal justice reform.
ATTACH;FMTTYPE=image/jpeg:https://fortworthdst.org/wp-content/uploads/2024
 /10/Project-2025-Webinar-Flyer.jpg
CATEGORIES:Chapter Calendar
LOCATION:https://us02web.zoom.us/webinar/register/WN_AAliKa_sS1mlkcXrQz3-yg
END:VEVENT
BEGIN:VTIMEZONE
TZID:America/Chicago
X-LIC-LOCATION:America/Chicago
BEGIN:DAYLIGHT
DTSTART:20240310T030000
TZOFFSETFROM:-0600
TZOFFSETTO:-0500
TZNAME:CDT
END:DAYLIGHT
END:VTIMEZONE
END:VCALENDAR