BEGIN:VCALENDAR
VERSION:2.0
PRODID:-//wp-events-plugin.com//7.2.3.1//EN
TZID:America/Chicago
X-WR-TIMEZONE:America/Chicago
BEGIN:VEVENT
UID:12@fortworthdst.org
DTSTART;TZID=America/Chicago;VALUE=DATE:20241031
DTEND;TZID=America/Chicago;VALUE=DATE:20241101
DTSTAMP:20241008T023109Z
URL:https://fortworthdst.org/events/jabberwock-application-deadline/
SUMMARY:Jabberwock Application Deadline
DESCRIPTION:Are you a female senior graduating in the 2024-2025 school year
  and seeking financial support for college? Do you also want to connect wi
 th a community that offers social\, educational\, and cultural resources? 
 Then Miss Jabberwock is for you!\n\nIf you know a young lady that could be
 nefit from this program\, please encourage them to apply!\n\nSubmit your a
 pplication no later than October 31\, 2024 to jabberwock@fortworthdst.org!
 \n\nClick here for more details about our Jabberwock program.
ATTACH;FMTTYPE=image/jpeg:https://fortworthdst.org/wp-content/uploads/2024
 /10/JABBERWOCK-PROMO-FLYER.png
CATEGORIES:Chapter Calendar
END:VEVENT
BEGIN:VTIMEZONE
TZID:America/Chicago
X-LIC-LOCATION:America/Chicago
BEGIN:DAYLIGHT
DTSTART:20240310T030000
TZOFFSETFROM:-0600
TZOFFSETTO:-0500
TZNAME:CDT
END:DAYLIGHT
END:VTIMEZONE
END:VCALENDAR