BEGIN:VCALENDAR
VERSION:2.0
PRODID:-//wp-events-plugin.com//7.2.3.1//EN
TZID:America/Chicago
X-WR-TIMEZONE:America/Chicago
BEGIN:VEVENT
UID:31@fortworthdst.org
DTSTART;TZID=America/Chicago:20260117T100000
DTEND;TZID=America/Chicago:20260117T120000
DTSTAMP:20260116T224644Z
URL:https://fortworthdst.org/events/human-trafficking-awareness-forum/
SUMMARY:Human Trafficking Awareness Forum
DESCRIPTION:DFW will be buzzing in 2026 with major events like the Grand Pr
 ix and the FIFA World Cup — and that means we must stay alert. Large eve
 nts can increase the risk of human trafficking\, especially for our youth.
 \n\nJoin Fort Worth Alumnae Chapter for a Human Trafficking Awareness Foru
 m.\nSaturday\, January 17\, 2026\n10 a.m. – 12 p.m.\nLOCATION CHANGE: Gr
 eater Friendship MBC\, 2001 Bonnie Brae Ave\, Fort Worth\, TX 76111\n\nLet
 ’s stay informed\, stay aware\, and protect our community.\n\nClick the 
 link to register: https://form.jotform.com/252935951597069
ATTACH;FMTTYPE=image/jpeg:https://fortworthdst.org/wp-content/uploads/2025
 /12/Human-Trafficking-Event-2026.jpeg
CATEGORIES:Chapter Calendar
LOCATION:https://maps.app.goo.gl/QrUQ4Q3sVvDedYnp8
END:VEVENT
BEGIN:VTIMEZONE
TZID:America/Chicago
X-LIC-LOCATION:America/Chicago
BEGIN:STANDARD
DTSTART:20251102T010000
TZOFFSETFROM:-0500
TZOFFSETTO:-0600
TZNAME:CST
END:STANDARD
END:VTIMEZONE
END:VCALENDAR