BEGIN:VCALENDAR
VERSION:2.0
PRODID:-//wp-events-plugin.com//7.2.3.1//EN
TZID:America/Chicago
X-WR-TIMEZONE:America/Chicago
BEGIN:VEVENT
UID:10@fortworthdst.org
DTSTART;TZID=America/Chicago:20240818T180000
DTEND;TZID=America/Chicago:20240818T210000
DTSTAMP:20240808T030905Z
URL:https://fortworthdst.org/events/henosis-concert/
SUMMARY:HENOSIS Concert
DESCRIPTION:Please join members of the Dallas-Fort Worth Divine 9 for the f
 ifth annual HENOSIS concert at the Moody Performance Hall in Dallas\, Texa
 s. The concert title\, HENOSIS\, is a Greek word that means “unity” an
 d this concert is sure to please the musical palates of fans of the fine a
 rts and introduce new listeners to these timeless art forms.\nProceeds fro
 m the concert will benefit The HighArt Foundation\, which assists deservin
 g young musicians with scholarships and mentorships\, as they pursue a car
 eer in the arts. The concert will feature artists from the Divine 9\, incl
 uding North Central Texas Alumnae Soror Erica Simmons\, and the Henosis Di
 vine 9 Chorale\, which includes Fort Worth Alumnae Soror Yonina Patterson.
 \nTickets for the concert are $15 for general admission and $25 for the VI
 P experience. Click here or the scan the QR code for purchase.
ATTACH;FMTTYPE=image/jpeg:https://fortworthdst.org/wp-content/uploads/2024
 /08/HENOSIS-2024-Event-Flyer.jpg
CATEGORIES:DFW Calendar
LOCATION:https://maps.app.goo.gl/KQ4QqeyFpTLK4kDX7
END:VEVENT
BEGIN:VTIMEZONE
TZID:America/Chicago
X-LIC-LOCATION:America/Chicago
BEGIN:DAYLIGHT
DTSTART:20240310T030000
TZOFFSETFROM:-0600
TZOFFSETTO:-0500
TZNAME:CDT
END:DAYLIGHT
END:VTIMEZONE
END:VCALENDAR