BEGIN:VCALENDAR
VERSION:2.0
PRODID:-//wp-events-plugin.com//7.2.3.1//EN
TZID:America/Chicago
X-WR-TIMEZONE:America/Chicago
BEGIN:VEVENT
UID:17@fortworthdst.org
DTSTART;TZID=America/Chicago;VALUE=DATE:20241101
DTEND;TZID=America/Chicago;VALUE=DATE:20241125
DTSTAMP:20241030T141326Z
URL:https://fortworthdst.org/events/great-escape-luxury-raffle/
SUMMARY:The Great Escape Luxury Raffle - Get Your Ticket
DESCRIPTION:Don't forget to get your The Great Escape raffle tickets for a 
 chance to win one of our three amazing prizes:\n\n 	Grand Prize - $1\,500 
 Towards Travel Amenities\n 	Runner Up Prize - $750 Hotel Gift Card\n 	Fina
 l Prize - $250 SpaFinder Gift Card\n\nYou don't want to miss this! Click h
 ere to purchase your raffle tickets. You have until November 22nd to enter
 . All net proceeds benefit our chapter scholarships &amp\; youth programs.
  Mark your calendar for Sunday\, November 24 6:30 pm\, the drawing will be
  live on Zoom. Webinar link will be provided closer to the day of the live
  drawing. Stay tuned!
ATTACH;FMTTYPE=image/jpeg:https://fortworthdst.org/wp-content/uploads/2024
 /10/The-Great-Escape-Luxury-Raffle-Flyer.png
CATEGORIES:Chapter Calendar
END:VEVENT
BEGIN:VTIMEZONE
TZID:America/Chicago
X-LIC-LOCATION:America/Chicago
BEGIN:DAYLIGHT
DTSTART:20240310T030000
TZOFFSETFROM:-0600
TZOFFSETTO:-0500
TZNAME:CDT
END:DAYLIGHT
BEGIN:STANDARD
DTSTART:20241103T010000
TZOFFSETFROM:-0500
TZOFFSETTO:-0600
TZNAME:CST
END:STANDARD
END:VTIMEZONE
END:VCALENDAR