BEGIN:VCALENDAR
VERSION:2.0
PRODID:-//wp-events-plugin.com//7.2.3.1//EN
TZID:America/Chicago
X-WR-TIMEZONE:America/Chicago
BEGIN:VEVENT
UID:23@fortworthdst.org
DTSTART;TZID=America/Chicago:20250412T080000
DTEND;TZID=America/Chicago:20250412T110000
DTSTAMP:20250320T022214Z
URL:https://fortworthdst.org/events/fwa-support-march-for-babies/
SUMMARY:Help FWA Support March for Babies
DESCRIPTION:FREE registration to support the local March for Babies Walk at
  Panther Island Pavilion.\nClick here to donate and help Fort Worth Alumna
 e Chapter reach our $1\,000.00 fundraising goal.
ATTACH;FMTTYPE=image/jpeg:https://fortworthdst.org/wp-content/uploads/2025
 /03/March-of-Dimes-Flyer.jpeg
CATEGORIES:Chapter Calendar
LOCATION:https://maps.app.goo.gl/fq8h5hFBycNZ2abB6
END:VEVENT
BEGIN:VTIMEZONE
TZID:America/Chicago
X-LIC-LOCATION:America/Chicago
BEGIN:DAYLIGHT
DTSTART:20250309T030000
TZOFFSETFROM:-0600
TZOFFSETTO:-0500
TZNAME:CDT
END:DAYLIGHT
END:VTIMEZONE
END:VCALENDAR