BEGIN:VCALENDAR
VERSION:2.0
PRODID:-//wp-events-plugin.com//7.2.3.1//EN
TZID:America/Chicago
X-WR-TIMEZONE:America/Chicago
BEGIN:VEVENT
UID:16@fortworthdst.org
DTSTART;TZID=America/Chicago;VALUE=DATE:20241016
DTEND;TZID=America/Chicago;VALUE=DATE:20241117
DTSTAMP:20241015T140427Z
URL:https://fortworthdst.org/events/fwa-school-supply-drives/
SUMMARY:Elementary School Supply Drives
DESCRIPTION:Help the Fort Worth Alumnae Chapter of Delta Sigma Theta Sorori
 ty\, Inc.\, assist local elementary schools with some much needed school s
 upplies! From October 16th through November 16th\, let's refill the cabine
 ts for these deserving schools: L. Clifford Davis Elementary\, Leadership 
 Academy at Como Elementary and T. A. Simms Elementary!  Please scan the Q
 R code on the flyer or click here to visit the Amazon Wishlist today!
ATTACH;FMTTYPE=image/jpeg:https://fortworthdst.org/wp-content/uploads/2024
 /10/back-to-school-school-school-supply-drive.jpg
CATEGORIES:Chapter Calendar
LOCATION:https://www.amazon.com/hz/wishlist/ls/1P49OZ17O9IQP?ref_=list_d_wl
 _ys_list_1
END:VEVENT
BEGIN:VTIMEZONE
TZID:America/Chicago
X-LIC-LOCATION:America/Chicago
BEGIN:DAYLIGHT
DTSTART:20240310T030000
TZOFFSETFROM:-0600
TZOFFSETTO:-0500
TZNAME:CDT
END:DAYLIGHT
BEGIN:STANDARD
DTSTART:20241103T010000
TZOFFSETFROM:-0500
TZOFFSETTO:-0600
TZNAME:CST
END:STANDARD
END:VTIMEZONE
END:VCALENDAR