BEGIN:VCALENDAR
VERSION:2.0
PRODID:-//wp-events-plugin.com//7.2.3.1//EN
TZID:America/Chicago
X-WR-TIMEZONE:America/Chicago
BEGIN:VEVENT
UID:28@fortworthdst.org
DTSTART;TZID=America/Chicago:20251005T160000
DTEND;TZID=America/Chicago:20251005T180000
DTSTAMP:20251008T012045Z
URL:https://fortworthdst.org/events/fort-worth-alumnae-fall2025-rush/
SUMMARY:Fort Worth Alumnae Chapter Fall 2025 RUSH: New Membership Intake
DESCRIPTION:Fort Worth Alumnae Chapter of Delta Sigma Theta Sorority\, Inco
 rporated announces Membership Intake for Fall 2025. Doors open at 2PM!\nRU
 SH KNOW BEFORE YOU GO:\n\n 	Attendees must be present for the full duratio
 n to receive a membership application\n 	Business Attire is required\n 	Va
 lid government-issued photo ID is required\n 	Applicants must reside in th
 e Fort Worth Alumnae Chapter Service Area\, as listed below:\n\n 	Cities o
 f Fort Worth\n 	Benbrook\n 	Crowley\n 	Everman\n 	Forest Hill\n 	Mansfield
 \n 	County of Tarrant\n\n\n\nFor more information please email FWAMEMBERSH
 IPINTAKE2025@gmail.com.\n\nDEMETRICE S. THOMPSON\, PRESIDENT\nTALEMAH JONE
 S\, CHAIR-MEMBERSHIP INTAKE\n\n\n\n&nbsp\;
ATTACH;FMTTYPE=image/jpeg:https://fortworthdst.org/wp-content/uploads/2025
 /09/FWA-DST-Fall-2025-RUSH-Flyer-2.png
CATEGORIES:Chapter Calendar
LOCATION:https://maps.app.goo.gl/3T6mXoLAbCKEL7jM8
END:VEVENT
BEGIN:VTIMEZONE
TZID:America/Chicago
X-LIC-LOCATION:America/Chicago
BEGIN:DAYLIGHT
DTSTART:20250309T030000
TZOFFSETFROM:-0600
TZOFFSETTO:-0500
TZNAME:CDT
END:DAYLIGHT
END:VTIMEZONE
END:VCALENDAR