BEGIN:VCALENDAR
VERSION:2.0
PRODID:-//wp-events-plugin.com//7.2.3.1//EN
TZID:America/Chicago
X-WR-TIMEZONE:America/Chicago
BEGIN:VEVENT
UID:6@fortworthdst.org
DTSTART;TZID=America/Chicago:20240713T100000
DTEND;TZID=America/Chicago:20240713T140000
DTSTAMP:20240724T163851Z
URL:https://fortworthdst.org/events/fibroid-awareness-self-care-forum/
SUMMARY:Third Annual Texas Fibroid Awareness Month Self Care Forum
DESCRIPTION:On behalf of the Barbara Jordan Leadership Institute\, you're c
 ordially invited to attend our Third Annual Texas Fibroid Awareness Month 
 Self Care Forum.\n\nThis year\, we are enhancing our efforts with a focus 
 on educational events. We will host panel and roundtable discussions in Be
 aumont\, Tyler\, Fort Worth\, Houston\, and Dallas\, creating spaces for w
 omen affected by uterine fibroids to share their experiences and find comm
 unity support. These panels will cover the health impacts (physical\, ment
 al\, and emotional) and financial aspects (preparing for procedures and fi
 nancial planning) of living with fibroids.\n\nEvent Details: Date: July 13
 th\, 2024\nTime: 10:00 AM - 2:00 PM\nLocation: United Way of Tarrant Count
 y\, 201 N Rupert St. Suite 107\, Fort Worth\, TX 76107\n\nThis is a free e
 vent for the community. We kindly ask that attendees bring period products
  to donate. The collection will be donated to a Title 1 High School within
  Tarrant County.
ATTACH;FMTTYPE=image/jpeg:https://fortworthdst.org/wp-content/uploads/2024
 /07/Fibroid-Awareness-Month-Self-Care-Forum.png
CATEGORIES:DFW Calendar
LOCATION:https://maps.app.goo.gl/p6zhQvrJiTHgB6fM7
END:VEVENT
BEGIN:VTIMEZONE
TZID:America/Chicago
X-LIC-LOCATION:America/Chicago
BEGIN:DAYLIGHT
DTSTART:20240310T030000
TZOFFSETFROM:-0600
TZOFFSETTO:-0500
TZNAME:CDT
END:DAYLIGHT
END:VTIMEZONE
END:VCALENDAR