BEGIN:VCALENDAR
VERSION:2.0
PRODID:-//wp-events-plugin.com//7.2.3.1//EN
TZID:America/Chicago
X-WR-TIMEZONE:America/Chicago
BEGIN:VEVENT
UID:24@fortworthdst.org
DTSTART;TZID=America/Chicago:20250413T160000
DTEND;TZID=America/Chicago:20250413T180000
DTSTAMP:20250413T133535Z
URL:https://fortworthdst.org/events/divine9-family-reunion-nphc-tarrant-co
 unty/
SUMMARY:Divine9 Family Reunion hosted by NPHC Tarrant County
DESCRIPTION:Back by popular demand! Join us for the D9 Family Reunion Commu
 nity Service Celebration honoring Black Maternal Health hosted by the Tarr
 ant County Panhellenic Council. The event will be held on Sunday\, April 1
 3th at 4 pm. All items will be donated to Black led organizations addressi
 ng Black Maternal Health!!\n\nPlease bring the following item: Diapers\, w
 ipes\, bottles\, bibs\, socks\, onesies\, non-scented lotions\, and hygien
 e products.
ATTACH;FMTTYPE=image/jpeg:https://fortworthdst.org/wp-content/uploads/2025
 /04/Divine9-Family-Reunion-NPHC-Tarrant-County-Flyer.jpg
CATEGORIES:DFW Calendar
LOCATION:https://maps.app.goo.gl/MsNRZsn1XWVpxYJdA
END:VEVENT
BEGIN:VTIMEZONE
TZID:America/Chicago
X-LIC-LOCATION:America/Chicago
BEGIN:DAYLIGHT
DTSTART:20250309T030000
TZOFFSETFROM:-0600
TZOFFSETTO:-0500
TZNAME:CDT
END:DAYLIGHT
END:VTIMEZONE
END:VCALENDAR