BEGIN:VCALENDAR
VERSION:2.0
PRODID:-//wp-events-plugin.com//7.2.3.1//EN
TZID:America/Chicago
X-WR-TIMEZONE:America/Chicago
BEGIN:VEVENT
UID:8@fortworthdst.org
DTSTART;TZID=America/Chicago:20241019T130000
DTEND;TZID=America/Chicago:20241019T170000
DTSTAMP:20240724T163817Z
URL:https://fortworthdst.org/events/divine-nine-greek-bowl/
SUMMARY:Divine Nine Greek Bowl for Kid's Sake\, Big Brother Big Sister - Ta
 rrant County
DESCRIPTION:This year's Greek Bowl will be held on Saturday\, October 19th 
 at Forum Bowl from 1-5pm. The committee is currently reaching out to all D
 9 chapters in the DFW to participate in this important event which is mean
 t to bring awareness to the mission of the Big Brother Big Sister and rais
 e much needed funds to support that mission.\n\nHere's how to register you
 r team(s) and set a fundraising goal: secure.qgiv.com/event/bbbsbfks2024
ATTACH;FMTTYPE=image/jpeg:https://fortworthdst.org/wp-content/uploads/2024
 /07/Divine9-Greek-Bowl-Flyer.png
CATEGORIES:DFW Calendar
LOCATION:https://maps.app.goo.gl/Ahxrror7rL3X3tAD9
END:VEVENT
BEGIN:VTIMEZONE
TZID:America/Chicago
X-LIC-LOCATION:America/Chicago
BEGIN:DAYLIGHT
DTSTART:20240310T030000
TZOFFSETFROM:-0600
TZOFFSETTO:-0500
TZNAME:CDT
END:DAYLIGHT
END:VTIMEZONE
END:VCALENDAR