BEGIN:VCALENDAR
VERSION:2.0
PRODID:-//wp-events-plugin.com//7.2.3.1//EN
TZID:America/Chicago
X-WR-TIMEZONE:America/Chicago
BEGIN:VEVENT
UID:11@fortworthdst.org
DTSTART;TZID=America/Chicago:20240921T100000
DTEND;TZID=America/Chicago:20240921T120000
DTSTAMP:20240905T134150Z
URL:https://fortworthdst.org/events/delta-academy-parent-orientation/
SUMMARY:Delta Academy Parent Orientation
DESCRIPTION:Delta Academy is Now Accepting Applications! For Middle School 
 Girls Ages 11-14. Free to Apply! Free to Join! Parent/Guardian application
  can be found here.\n\nJoin us for an exciting program offering an innovat
 ive exchange of extraordinary experiences that will help develop essential
  life skills and boost self-esteem.\n\nParent Orientation\n📅 Date: Satu
 rday\, September 21\, 2024\n⏰ Time: 10:00 AM\n📍 Location: O.D. Wyatt 
 High School\, 2400 E. Seminary Dr.\, Fort Worth\, TX 76119\n\nDon't miss t
 his opportunity to empower your young girl with the tools she needs to lea
 d and succeed! Remember to spread the word and help more girls be a part o
 f this transformative experience!
ATTACH;FMTTYPE=image/jpeg:https://fortworthdst.org/wp-content/uploads/2024
 /09/Delta-Academy-Application-Flyer-2024-2025.png
CATEGORIES:Chapter Calendar
LOCATION:https://maps.app.goo.gl/QktReDYYzQwLjTbG9
END:VEVENT
BEGIN:VTIMEZONE
TZID:America/Chicago
X-LIC-LOCATION:America/Chicago
BEGIN:DAYLIGHT
DTSTART:20240310T030000
TZOFFSETFROM:-0600
TZOFFSETTO:-0500
TZNAME:CDT
END:DAYLIGHT
END:VTIMEZONE
END:VCALENDAR