BEGIN:VCALENDAR
VERSION:2.0
PRODID:-//wp-events-plugin.com//7.2.3.1//EN
TZID:America/Chicago
X-WR-TIMEZONE:America/Chicago
BEGIN:VEVENT
UID:18@fortworthdst.org
DTSTART;TZID=America/Chicago:20250112T150000
DTEND;TZID=America/Chicago:20250112T180000
DTSTAMP:20241209T143957Z
URL:https://fortworthdst.org/events/day-party-with-a-purpose/
SUMMARY:Crimson and Cream Day Party with a Purpose!
DESCRIPTION:Come laugh\, stroll\, dance and have a great time with the Fort
  Worth Alumnae Chapter of Delta Sigma Theta Sorority Inc.\n\nPurchase tick
 ets here: https://form.jotform.com/242947654364063\n\nLast day to purchase
  tickets is January 1\, 2025.
ATTACH;FMTTYPE=image/jpeg:https://fortworthdst.org/wp-content/uploads/2024
 /12/Crimson-and-Cream-Day-Party-with-a-Purpose-Flyer.jpg
CATEGORIES:Chapter Calendar
LOCATION:https://maps.app.goo.gl/otKVevDYTFzf4i8bA
END:VEVENT
BEGIN:VTIMEZONE
TZID:America/Chicago
X-LIC-LOCATION:America/Chicago
BEGIN:STANDARD
DTSTART:20241103T010000
TZOFFSETFROM:-0500
TZOFFSETTO:-0600
TZNAME:CST
END:STANDARD
END:VTIMEZONE
END:VCALENDAR