BEGIN:VCALENDAR
VERSION:2.0
PRODID:-//wp-events-plugin.com//7.2.3.1//EN
TZID:America/Chicago
X-WR-TIMEZONE:America/Chicago
BEGIN:VEVENT
UID:1@fortworthdst.org
DTSTART;TZID=America/Chicago:20240427T160000
DTEND;TZID=America/Chicago:20240427T190000
DTSTAMP:20240715T151217Z
URL:https://fortworthdst.org/events/day-party-2024/
SUMMARY:3rd Annual Day Party With a Purpose
DESCRIPTION:The Fort Worth Alumnae Chapter of Delta Sigma Theta Sorority\, 
 Inc. presents Party with a Purpose! Join us for a Day Party like not other
 ! Let's Stroll\, Laugh\, Fellowship and Make a Difference together!
ATTACH;FMTTYPE=image/jpeg:https://fortworthdst.org/wp-content/uploads/2024
 /05/Day-Party-Flyer-2024.png
CATEGORIES:Chapter Calendar
LOCATION:https://maps.app.goo.gl/XrniRsNiQ4ZLSto86
END:VEVENT
BEGIN:VTIMEZONE
TZID:America/Chicago
X-LIC-LOCATION:America/Chicago
BEGIN:DAYLIGHT
DTSTART:20240310T030000
TZOFFSETFROM:-0600
TZOFFSETTO:-0500
TZNAME:CDT
END:DAYLIGHT
END:VTIMEZONE
END:VCALENDAR