BEGIN:VCALENDAR
VERSION:2.0
PRODID:-//wp-events-plugin.com//7.2.3.1//EN
TZID:America/Chicago
X-WR-TIMEZONE:America/Chicago
BEGIN:VEVENT
UID:2@fortworthdst.org
DTSTART;TZID=America/Chicago:20240421T140000
DTEND;TZID=America/Chicago:20240421T170000
DTSTAMP:20240705T000750Z
URL:https://fortworthdst.org/events/day-at-the-modern/
SUMMARY:Community Day at the Modern
DESCRIPTION:The Arts and Letters Committee is ecstatic to announce our thir
 d opportunity to partner with our friends at the Modern Art Museum of Fo
 rt Worth for Community Day at The Modern. Enjoy over 80 paintings\, sculp
 tures\, drawings\, videos\, and installations at Surrealism and Us: Caribb
 ean and African Diasporic Artists exhibit. There will be guided tours\, mu
 sic\, and more.\n\nFW Alumnae will also host multiple community youth grou
 ps including: FW Assembly Little Swans\, Maroon 9 - Kids Acting with Purpo
 se\, and others. This will definitely be a community affair!\n\nWe hope to
  see you there and please invite others and share! If you have a group you
 'd like us to invite\, please email ArtsandLetters@fortworthdst.org.
ATTACH;FMTTYPE=image/jpeg:https://fortworthdst.org/wp-content/uploads/2024
 /05/Community-Day-at-The-Modern.png
CATEGORIES:Chapter Calendar
LOCATION:https://maps.app.goo.gl/NjZwAiobCrCQJY9X7
END:VEVENT
BEGIN:VTIMEZONE
TZID:America/Chicago
X-LIC-LOCATION:America/Chicago
BEGIN:DAYLIGHT
DTSTART:20240310T030000
TZOFFSETFROM:-0600
TZOFFSETTO:-0500
TZNAME:CDT
END:DAYLIGHT
END:VTIMEZONE
END:VCALENDAR