BEGIN:VCALENDAR
VERSION:2.0
PRODID:-//wp-events-plugin.com//7.2.3.1//EN
TZID:America/Chicago
X-WR-TIMEZONE:America/Chicago
BEGIN:VEVENT
UID:33@fortworthdst.org
DTSTART;TZID=America/Chicago:20260228T100000
DTEND;TZID=America/Chicago:20260228T120000
DTSTAMP:20260123T042239Z
URL:https://fortworthdst.org/events/coffee-candidates-conversations/
SUMMARY:Coffee\, Candidates & Conversations
DESCRIPTION:You're invited to join us for Coffee\, Conversations and Candid
 ates on Saturday\, February 7\, 2026 at Black Coffee from 10am - 2pm. Meet
  local candidates\, enjoy a cup-of-joe AND discuss the issues that matter 
 most to our community as we approach one of the most crucial elections of 
 our lifetime.
ATTACH;FMTTYPE=image/jpeg:https://fortworthdst.org/wp-content/uploads/2026
 /01/Coffee-Candidate-Event-Flyer.png
CATEGORIES:Chapter Calendar
LOCATION:https://maps.app.goo.gl/Ei63day8w3oC9tvG6
END:VEVENT
BEGIN:VTIMEZONE
TZID:America/Chicago
X-LIC-LOCATION:America/Chicago
BEGIN:STANDARD
DTSTART:20251102T010000
TZOFFSETFROM:-0500
TZOFFSETTO:-0600
TZNAME:CST
END:STANDARD
END:VTIMEZONE
END:VCALENDAR