BEGIN:VCALENDAR
VERSION:2.0
PRODID:-//wp-events-plugin.com//7.2.3.1//EN
TZID:America/Chicago
X-WR-TIMEZONE:America/Chicago
BEGIN:VEVENT
UID:32@fortworthdst.org
DTSTART;TZID=America/Chicago:20260129T190000
DTEND;TZID=America/Chicago:20260129T200000
DTSTAMP:20260123T034508Z
URL:https://fortworthdst.org/events/barbara-jordan-essay-scholarship-infor
 mational-workshop/
SUMMARY:Barbara Jordan Essay Scholarship Informational Workshop
DESCRIPTION:This is the informational meeting for potential applicants want
 ing to apply for the Barbara Jordan Essay Scholarship. Click here to regis
 ter today to attend the informational workshop for the Barbara Jordan Essa
 y Scholarship!
ATTACH;FMTTYPE=image/jpeg:https://fortworthdst.org/wp-content/uploads/2026
 /01/BJES-informational_flyer.png
CATEGORIES:Chapter Calendar
LOCATION:https://us02web.zoom.us/meeting/register/i7M7J6KKTOqTFaBnnWhwfw
END:VEVENT
BEGIN:VTIMEZONE
TZID:America/Chicago
X-LIC-LOCATION:America/Chicago
BEGIN:STANDARD
DTSTART:20251102T010000
TZOFFSETFROM:-0500
TZOFFSETTO:-0600
TZNAME:CST
END:STANDARD
END:VTIMEZONE
END:VCALENDAR