BEGIN:VCALENDAR
VERSION:2.0
PRODID:-//wp-events-plugin.com//7.2.3.1//EN
TZID:America/Chicago
X-WR-TIMEZONE:America/Chicago
BEGIN:VEVENT
UID:37@fortworthdst.org
DTSTART;TZID=America/Chicago:20260301T000000
DTEND;TZID=America/Chicago:20260311T000000
DTSTAMP:20260228T142051Z
URL:https://fortworthdst.org/events/barbara-jordan-essay-competition-schol
 arship/
SUMMARY:Barbara Jordan Essay Competition Scholarship
DESCRIPTION: 🎓Scholarship Opportunity you don't want to miss! The Barbar
 a Jordan Essay Competition was founded in 1995 as an event sponsored by th
 e University of Texas at Austin to honor the legacy of Soror Barbara Jorda
 n\, a lawyer\, educator\, politician\, and one of Texas' most influential 
 leaders of the 20th century. In 2001\, Fort Worth Alumnae added the compet
 ition to our Youth Initiative as an opportunity to support the higher educ
 ation goals of students in the city of Fort Worth and Tarrant County. 🍎
 💼🏆\n\n📌To qualify for this scholarship\, you must:\n\n\n\n\n✅Be
  a graduating senior from a school in our service area (Fort Worth\, Benbr
 ook\, Crowley\, Everman\, Forest Hill\, Mansfield and the County of Tarran
 t)\n\n✅Plan to attend a 2 or 4-year college/university\n\n✅Submit a co
 mpleted application\, with the requested supporting documents:\n\n\n\n\n\n
 \n 	\n\n 	High school transcript\n 	Two (2) signed letters of recommendati
 on\n 	Typed essay 1\,500-2\,000 words\n 	Headshot Photo\n 	All release for
 ms (virtual participation and media release forms)\n\n\n\nCheck here for m
 ore details about the scholarship.\n\n\n
ATTACH;FMTTYPE=image/jpeg:https://fortworthdst.org/wp-content/uploads/2026
 /02/Barbara-Jordan-Essay-Contest-Flyer.png
CATEGORIES:Chapter Calendar
LOCATION:https://fortworthdst.org/scholarships/#barbara-jordan
END:VEVENT
BEGIN:VTIMEZONE
TZID:America/Chicago
X-LIC-LOCATION:America/Chicago
BEGIN:STANDARD
DTSTART:20251102T010000
TZOFFSETFROM:-0500
TZOFFSETTO:-0600
TZNAME:CST
END:STANDARD
BEGIN:DAYLIGHT
DTSTART:20260308T030000
TZOFFSETFROM:-0600
TZOFFSETTO:-0500
TZNAME:CDT
END:DAYLIGHT
END:VTIMEZONE
END:VCALENDAR