BEGIN:VCALENDAR
VERSION:2.0
PRODID:-//wp-events-plugin.com//7.2.3.1//EN
TZID:America/Chicago
X-WR-TIMEZONE:America/Chicago
BEGIN:VEVENT
UID:9@fortworthdst.org
DTSTART;TZID=America/Chicago:20240907T110000
DTEND;TZID=America/Chicago:20240907T130000
DTSTAMP:20240904T131825Z
URL:https://fortworthdst.org/events/annual-round-up-2024/
SUMMARY:2024 Chapter Round-Up
DESCRIPTION:Join the Fort Worth Alumnae Chapter as we “Connect” with So
 rors both old and new to kickoff the 2024-2025 Sorority year! Registration
  is now open for our Annual Round-Up! So come on out on Saturday\, Septemb
 er 7th from 11am to 1pm at the Como Community Center (4660 Horne St.\, For
 t Worth) to see why Fort Worth Alumnae is the chapter for You!\n\nThank yo
 u so much Sorors for registering for the Fort Worth Alumnae Round-Up event
 . Due to the overwhelming number of registrations we have reached capacity
  and is registration is now CLOSED. We will not be able to accommodate any
  additional Sorors at this event. There will be NO registrations available
  at the door. Please consider joining us at our first chapter meeting on S
 aturday\, September 14th.\n\nThis is a Delta Only event and not open to th
 e general public! Membership verification will be required for entry.
ATTACH;FMTTYPE=image/jpeg:https://fortworthdst.org/wp-content/uploads/2024
 /07/Round-Up-2024-Registration-Closed.png
CATEGORIES:Chapter Calendar
LOCATION:https://maps.app.goo.gl/b89nYSFki61HwWEY7
END:VEVENT
BEGIN:VTIMEZONE
TZID:America/Chicago
X-LIC-LOCATION:America/Chicago
BEGIN:DAYLIGHT
DTSTART:20240310T030000
TZOFFSETFROM:-0600
TZOFFSETTO:-0500
TZNAME:CDT
END:DAYLIGHT
END:VTIMEZONE
END:VCALENDAR