BEGIN:VCALENDAR
VERSION:2.0
PRODID:-//wp-events-plugin.com//7.2.3.1//EN
TZID:America/Chicago
X-WR-TIMEZONE:America/Chicago
BEGIN:VEVENT
UID:25@fortworthdst.org
DTSTART;TZID=America/Chicago:20250905T180000
DTEND;TZID=America/Chicago:20250905T210000
DTSTAMP:20250805T024638Z
URL:https://fortworthdst.org/events/annual-fort-worth-alumnae-round-up/
SUMMARY:Annual Fort Worth Alumnae Round-Up
DESCRIPTION:If you are looking for a place to put your “Boots on the Grou
 nd” Fort Worth Alumnae is ready to receive YOU!\n\nIf you are a former m
 ember of Fort Worth Alumnae and you are ready to come home\, we would love
  to have YOU back!\n\nIf YOU are current member of Fort Worth Alumnae\, co
 me on out and make our visiting Sorors feel welcome and fellowship with on
 e another!\n\nAttire will be Delta paraphernalia. Join us on Friday\, Sep
 tember 5th at the Grand Prairie Convention Center!\n\nPlease click the reg
 istration link below:\nBoots on the Ground: Blazing Trails in Service &amp
 \; Sisterhood\n\nThere will not be registration available at the door\, so
  you MUST register in advance for this event!  Registration will close on
  Tuesday\, September 1st at 11pm (CST). (No refunds).\n\nDisclaimer: This
  event is for MEMBERS of Delta Sigma Theta Sorority\, Inc. Only!
ATTACH;FMTTYPE=image/jpeg:https://fortworthdst.org/wp-content/uploads/2025
 /08/FWA-Round-Up-2025-Graphic.png
CATEGORIES:Chapter Calendar
LOCATION:https://maps.app.goo.gl/HNnpWaVBuevCXynD9
END:VEVENT
BEGIN:VTIMEZONE
TZID:America/Chicago
X-LIC-LOCATION:America/Chicago
BEGIN:DAYLIGHT
DTSTART:20250309T030000
TZOFFSETFROM:-0600
TZOFFSETTO:-0500
TZNAME:CDT
END:DAYLIGHT
END:VTIMEZONE
END:VCALENDAR