BEGIN:VCALENDAR
VERSION:2.0
PRODID:-//wp-events-plugin.com//7.2.3.1//EN
TZID:America/Chicago
X-WR-TIMEZONE:America/Chicago
BEGIN:VEVENT
UID:21@fortworthdst.org
DTSTART;TZID=America/Chicago:20250209T140000
DTEND;TZID=America/Chicago:20250209T160000
DTSTAMP:20250201T015154Z
URL:https://fortworthdst.org/events/african-american-readin/
SUMMARY:FW African American Read-In
DESCRIPTION:Celebrate Black History Month with an afternoon of literacy and
  art on Sunday\, February 9\, 2025\, starting at 2 PM at The Modern. It's 
 FREE with registration. Enjoy gallery activities\, guided tours\, free lit
 eracy resources\, and book giveaways for all ages.\n\nFeatured authors inc
 lude Courtney Kelly ("Celeste Tunnels Underground") and Takiyah Wallace ("
 Brown Girls Do Ballet"). There will also be poetry\, performances\, a scre
 ening of The Right to Read\, library card registrations\, and prizes. Don'
 t miss this vibrant community event—register today!\n\nhttps://bit.ly/FW
 AAReadIn\n\nLocation: Modern Art Museum of Fort Worth\, 3200 Darnell Stree
 t\, Fort Worth\, TX 76107
ATTACH;FMTTYPE=image/jpeg:https://fortworthdst.org/wp-content/uploads/2025
 /01/African-American-Read-In-2025.png
CATEGORIES:Chapter Calendar
LOCATION:https://maps.app.goo.gl/mFRaAZwJyszvETZP8
END:VEVENT
BEGIN:VTIMEZONE
TZID:America/Chicago
X-LIC-LOCATION:America/Chicago
BEGIN:STANDARD
DTSTART:20241103T010000
TZOFFSETFROM:-0500
TZOFFSETTO:-0600
TZNAME:CST
END:STANDARD
END:VTIMEZONE
END:VCALENDAR