BEGIN:VCALENDAR
VERSION:2.0
PRODID:-//wp-events-plugin.com//7.2.3.1//EN
TZID:America/Chicago
X-WR-TIMEZONE:America/Chicago
BEGIN:VEVENT
UID:22@fortworthdst.org
DTSTART;TZID=America/Chicago:20250426T160000
DTEND;TZID=America/Chicago:20250426T190000
DTSTAMP:20250220T130658Z
URL:https://fortworthdst.org/events/4th-annual-school-daze-day-party-2025/
SUMMARY:4th Annual School Daze Day Party 2025
DESCRIPTION:Rep your school or your D9 Organization as we party with a purp
 ose! Join FWA as we host our 4th annual School Daze Day Party. Tickets are
  $22 presale and $25 at the door. Proceeds will go towards our scholarship
 s and programs. Buy yours today here.
ATTACH;FMTTYPE=image/jpeg:https://fortworthdst.org/wp-content/uploads/2025
 /02/School-Daze-Day-Party-2025-Flyer.png
CATEGORIES:Chapter Calendar
LOCATION:https://maps.app.goo.gl/XrniRsNiQ4ZLSto86
END:VEVENT
BEGIN:VTIMEZONE
TZID:America/Chicago
X-LIC-LOCATION:America/Chicago
BEGIN:DAYLIGHT
DTSTART:20250309T030000
TZOFFSETFROM:-0600
TZOFFSETTO:-0500
TZNAME:CDT
END:DAYLIGHT
END:VTIMEZONE
END:VCALENDAR