BEGIN:VCALENDAR
VERSION:2.0
PRODID:-//wp-events-plugin.com//7.2.3.1//EN
TZID:America/Chicago
X-WR-TIMEZONE:America/Chicago
BEGIN:VEVENT
UID:29@fortworthdst.org
DTSTART;TZID=America/Chicago:20251018T100000
DTEND;TZID=America/Chicago:20251018T120000
DTSTAMP:20251015T032514Z
URL:https://fortworthdst.org/events/2026-miss-jabberwock-informational-kic
 koff/
SUMMARY:2026 Miss Jabberwock Informational Kickoff
DESCRIPTION:The Fort Worth Alumnae Chapter is excited to announce the start
  of The Miss Jabberwock Scholarship Program for this year!\n\n\n\nThe 2025
 -2026 Miss Jabberwock Informational Kickoff Meeting will be held virtually
  on Saturday\, October 18\, 2025 at 10am.\n\n\n\nClick link here to regist
 er for this virtual kickoff session.\n\nPlease see the flyer below for mor
 e details. Share this event with any high school senior girls that may be 
 interested.
ATTACH;FMTTYPE=image/jpeg:https://fortworthdst.org/wp-content/uploads/2025
 /10/Miss-Jabberwock-2026-Flyer.png
CATEGORIES:Chapter Calendar
LOCATION:https://us02web.zoom.us/meeting/register/M9mslZWtQNK1sZDnBwUkFQ
END:VEVENT
BEGIN:VTIMEZONE
TZID:America/Chicago
X-LIC-LOCATION:America/Chicago
BEGIN:DAYLIGHT
DTSTART:20250309T030000
TZOFFSETFROM:-0600
TZOFFSETTO:-0500
TZNAME:CDT
END:DAYLIGHT
END:VTIMEZONE
END:VCALENDAR