BEGIN:VCALENDAR
VERSION:2.0
PRODID:-//wp-events-plugin.com//7.2.3.1//EN
TZID:America/Chicago
X-WR-TIMEZONE:America/Chicago
BEGIN:VEVENT
UID:26@fortworthdst.org
DTSTART;TZID=America/Chicago;VALUE=DATE:20251031
DTEND;TZID=America/Chicago;VALUE=DATE:20251101
DTSTAMP:20250928T195839Z
URL:https://fortworthdst.org/events/2025-youth-programs/
SUMMARY:2025-2026 Youth Programs Application Deadline
DESCRIPTION:Fort Worth Alumnae is excited to kick off our 2025-2026 Youth P
 rograms!\n\nThe interest form for our Youth Programs is now available! If 
 you are a middle school or high school age young lady in Tarrant County an
 d want to learn more about our programs\, click LINK to complete the inter
 est form!\n\nThe Fort Worth Alumnae Chapter of Delta Sigma Theta Sorority\
 , Inc.’s Delta Academy\, Delta G.E.M.S. and Miss Jabberwock hosted our Y
 outh Programs Informational Session and Parent Orientation for Sunday\, Se
 ptember 21\, 2025 5:00 PM. Parents and participants must have attend the i
 nformation and parent orientation to participate in our youth programs.\n\
 n 	Delta Academy is for young middle school ladies ages 11-14\n 	Delta GEM
 S is for young high school ladies ages 14 -18\n 	Miss Jabberwock is for yo
 ung high school senior ladies\n\nClick HERE for the 2025-2026 Fort Worth A
 lumnae Youth Programs Applications. Completed applications must be submitt
 ed by Friday\, October 31\, 2025 at 11:59 p.m. 
ATTACH;FMTTYPE=image/jpeg:https://fortworthdst.org/wp-content/uploads/2025
 /08/IMG_8300.jpeg
CATEGORIES:Chapter Calendar
END:VEVENT
BEGIN:VTIMEZONE
TZID:America/Chicago
X-LIC-LOCATION:America/Chicago
BEGIN:DAYLIGHT
DTSTART:20250309T030000
TZOFFSETFROM:-0600
TZOFFSETTO:-0500
TZNAME:CDT
END:DAYLIGHT
END:VTIMEZONE
END:VCALENDAR