BEGIN:VCALENDAR
VERSION:2.0
PRODID:-//wp-events-plugin.com//7.2.3.1//EN
TZID:America/Chicago
X-WR-TIMEZONE:America/Chicago
BEGIN:VEVENT
UID:20@fortworthdst.org
DTSTART;TZID=America/Chicago:20250130T190000
DTEND;TZID=America/Chicago:20250130T200000
DTSTAMP:20250122T140358Z
URL:https://fortworthdst.org/events/2025-barbara-jordan-essay-scholarship-
 informational-workshop/
SUMMARY:2025 Barbara Jordan Essay Scholarship Informational Workshop
DESCRIPTION:Fort Worth Alumnae Chapter of Delta Sigma Theta Sorority\, Inc.
  is excited to offer graduating high school seniors an amazing scholarship
  opportunity. There will be an informational meeting held via Zoom! See de
 tails below! Interested applicants and parents are invited to attend and l
 earn more about the application process.\n\nRegistration is required\, cli
 ck here to register.
ATTACH;FMTTYPE=image/jpeg:https://fortworthdst.org/wp-content/uploads/2025
 /01/BJEC.png
CATEGORIES:Chapter Calendar
END:VEVENT
BEGIN:VTIMEZONE
TZID:America/Chicago
X-LIC-LOCATION:America/Chicago
BEGIN:STANDARD
DTSTART:20241103T010000
TZOFFSETFROM:-0500
TZOFFSETTO:-0600
TZNAME:CST
END:STANDARD
END:VTIMEZONE
END:VCALENDAR