BEGIN:VCALENDAR
VERSION:2.0
PRODID:-//wp-events-plugin.com//7.2.3.1//EN
TZID:America/Chicago
X-WR-TIMEZONE:America/Chicago
BEGIN:VEVENT
UID:27@fortworthdst.org
DTSTART;TZID=America/Chicago:20251115T113000
DTEND;TZID=America/Chicago:20251115T143000
DTSTAMP:20250928T195534Z
URL:https://fortworthdst.org/events/1938-service-awards-a-tribute-to-servi
 ce-2025/
SUMMARY:"The 1938 Service Awards": A Tribute to Service 2025
DESCRIPTION:The Fort Worth Alumnae Chapter of Delta Sigma Theta Sorority\, 
 Inc. introduces its “1938 Service Awards” to recognize the stellar and
  sustained service of Fort Worth and Tarrant County organizations whose wo
 rk will be recognized in three awards categories – Service\, Legacy Serv
 ice\, and Social Action Service.\n\nPlease join us as we salute this outst
 anding work that has improved the quality of life for Fort Worth and Tarra
 nt County communities. Net proceeds from ticket sales\, sponsorships and d
 onations will go to support Fort Worth Alumnae Chapter’s service program
 s and initiatives.\n\nClick HERE to purchase tickets\, sponsorship\, and/o
 r donations.\nEvent Details\nDate: Saturday\, November 15\, 2025\nTime: 11
 :30am to 2:30pm\nLocation: Fort Worth Botanic Garden–Lecture Hall and Oa
 k Room\n3220 Botanic Garden Boulevard\nFort Worth\, Texas 76107\nAttire: B
 usiness Attire
ATTACH;FMTTYPE=image/jpeg:https://fortworthdst.org/wp-content/uploads/2025
 /09/SPARKLE-FWA-DST_A-Tribute-to-Service-2025.gif
CATEGORIES:Chapter Calendar
LOCATION:https://share.google/OLcuDpfJbBpQZnyo6
END:VEVENT
BEGIN:VTIMEZONE
TZID:America/Chicago
X-LIC-LOCATION:America/Chicago
BEGIN:STANDARD
DTSTART:20251102T010000
TZOFFSETFROM:-0500
TZOFFSETTO:-0600
TZNAME:CST
END:STANDARD
END:VTIMEZONE
END:VCALENDAR